Package: affylmGUI Version: 1.81.0 Command: /Library/Frameworks/R.framework/Resources/bin/R CMD check --install=check:affylmGUI.install-out.txt --library=/Library/Frameworks/R.framework/Resources/library --no-vignettes --timings affylmGUI_1.81.0.tar.gz StartedAt: 2025-02-09 18:58:38 -0500 (Sun, 09 Feb 2025) EndedAt: 2025-02-09 19:01:10 -0500 (Sun, 09 Feb 2025) EllapsedTime: 151.8 seconds RetCode: 0 Status: OK CheckDir: affylmGUI.Rcheck Warnings: 0