Package: affylmGUI Version: 1.81.0 Command: /home/biocbuild/bbs-3.21-bioc/R/bin/R CMD INSTALL affylmGUI StartedAt: 2025-02-09 15:24:50 -0500 (Sun, 09 Feb 2025) EndedAt: 2025-02-09 15:25:10 -0500 (Sun, 09 Feb 2025) EllapsedTime: 19.5 seconds RetCode: 0 Status: OK