Package: affylmGUI Version: 1.81.0 Command: chmod a+r affylmGUI -R && E:\biocbuild\bbs-3.21-bioc\R\bin\R.exe CMD build --keep-empty-dirs --no-resave-data affylmGUI StartedAt: 2025-02-09 17:10:07 -0500 (Sun, 09 Feb 2025) EndedAt: 2025-02-09 17:11:04 -0500 (Sun, 09 Feb 2025) EllapsedTime: 56.8 seconds RetCode: 0 Status: OK PackageFile: affylmGUI_1.81.0.tar.gz PackageFileSize: 1.659 MiB