Package: affylmGUI Version: 1.81.0 Command: E:\biocbuild\bbs-3.21-bioc\R\bin\R.exe CMD check --no-multiarch --install=check:affylmGUI.install-out.txt --library=E:\biocbuild\bbs-3.21-bioc\R\library --no-vignettes --timings affylmGUI_1.81.0.tar.gz StartedAt: 2025-02-09 22:30:36 -0500 (Sun, 09 Feb 2025) EndedAt: 2025-02-09 22:32:36 -0500 (Sun, 09 Feb 2025) EllapsedTime: 120.4 seconds RetCode: 0 Status: OK CheckDir: affylmGUI.Rcheck Warnings: 0