Package: aggregateBioVar Version: 1.17.0 Command: /home/biocbuild/R/R/bin/R CMD build --keep-empty-dirs --no-resave-data aggregateBioVar StartedAt: 2025-01-29 20:46:29 -0000 (Wed, 29 Jan 2025) EndedAt: 2025-01-29 20:48:15 -0000 (Wed, 29 Jan 2025) EllapsedTime: 106.0 seconds RetCode: 0 Status: OK PackageFile: aggregateBioVar_1.17.0.tar.gz PackageFileSize: 1.01 MiB