Package: aggregateBioVar Version: 1.17.0 Command: /home/biocbuild/R/R/bin/R CMD INSTALL aggregateBioVar StartedAt: 2025-01-29 19:42:06 -0000 (Wed, 29 Jan 2025) EndedAt: 2025-01-29 19:42:39 -0000 (Wed, 29 Jan 2025) EllapsedTime: 32.5 seconds RetCode: 0 Status: OK