Package: aggregateBioVar Version: 1.17.0 Command: rm -rf aggregateBioVar.buildbin-libdir && mkdir aggregateBioVar.buildbin-libdir && /Users/biocbuild/BBS/utils/build-universal.sh aggregateBioVar_1.17.0.tar.gz /Library/Frameworks/R.framework/Resources/bin/R aggregateBioVar.buildbin-libdir StartedAt: 2025-02-04 00:21:56 -0500 (Tue, 04 Feb 2025) EndedAt: 2025-02-04 00:22:34 -0500 (Tue, 04 Feb 2025) EllapsedTime: 37.9 seconds RetCode: 0 Status: OK PackageFile: aggregateBioVar_1.17.0.tgz PackageFileSize: 1.706 MiB