Package: aggregateBioVar Version: 1.17.0 Command: /Library/Frameworks/R.framework/Resources/bin/R CMD build --keep-empty-dirs --no-resave-data aggregateBioVar StartedAt: 2025-02-03 15:55:37 -0500 (Mon, 03 Feb 2025) EndedAt: 2025-02-03 15:57:07 -0500 (Mon, 03 Feb 2025) EllapsedTime: 89.4 seconds RetCode: 0 Status: OK PackageFile: aggregateBioVar_1.17.0.tar.gz PackageFileSize: 1.216 MiB