Package: aggregateBioVar Version: 1.17.0 Command: /Library/Frameworks/R.framework/Resources/bin/R CMD INSTALL aggregateBioVar StartedAt: 2025-02-09 15:12:15 -0500 (Sun, 09 Feb 2025) EndedAt: 2025-02-09 15:12:47 -0500 (Sun, 09 Feb 2025) EllapsedTime: 31.5 seconds RetCode: 0 Status: OK