Package: aggregateBioVar Version: 1.17.0 Command: /home/biocbuild/bbs-3.21-bioc/R/bin/R CMD build --keep-empty-dirs --no-resave-data aggregateBioVar StartedAt: 2025-02-03 16:15:08 -0500 (Mon, 03 Feb 2025) EndedAt: 2025-02-03 16:16:30 -0500 (Mon, 03 Feb 2025) EllapsedTime: 81.1 seconds RetCode: 0 Status: OK PackageFile: aggregateBioVar_1.17.0.tar.gz PackageFileSize: 1.201 MiB