Package: aggregateBioVar Version: 1.17.0 Command: /home/biocbuild/bbs-3.21-bioc/R/bin/R CMD check --install=check:aggregateBioVar.install-out.txt --library=/home/biocbuild/bbs-3.21-bioc/R/site-library --timings aggregateBioVar_1.17.0.tar.gz StartedAt: 2025-02-09 19:55:41 -0500 (Sun, 09 Feb 2025) EndedAt: 2025-02-09 19:59:32 -0500 (Sun, 09 Feb 2025) EllapsedTime: 231.4 seconds RetCode: 0 Status: OK CheckDir: aggregateBioVar.Rcheck Warnings: 0