Package: aggregateBioVar Version: 1.17.0 Command: /home/biocbuild/bbs-3.21-bioc/R/bin/R CMD INSTALL aggregateBioVar StartedAt: 2025-02-03 15:27:56 -0500 (Mon, 03 Feb 2025) EndedAt: 2025-02-03 15:28:19 -0500 (Mon, 03 Feb 2025) EllapsedTime: 23.4 seconds RetCode: 0 Status: OK