Package: aggregateBioVar Version: 1.17.0 Command: rm -rf aggregateBioVar.buildbin-libdir && mkdir aggregateBioVar.buildbin-libdir && E:\biocbuild\bbs-3.21-bioc\R\bin\R.exe CMD INSTALL --build --library=aggregateBioVar.buildbin-libdir aggregateBioVar_1.17.0.tar.gz StartedAt: 2025-02-04 07:26:05 -0500 (Tue, 04 Feb 2025) EndedAt: 2025-02-04 07:26:48 -0500 (Tue, 04 Feb 2025) EllapsedTime: 43.3 seconds RetCode: 0 Status: OK PackageFile: aggregateBioVar_1.17.0.zip PackageFileSize: 1.461 MiB