Package: aggregateBioVar Version: 1.17.0 Command: chmod a+r aggregateBioVar -R && E:\biocbuild\bbs-3.21-bioc\R\bin\R.exe CMD build --keep-empty-dirs --no-resave-data aggregateBioVar StartedAt: 2025-02-03 17:22:44 -0500 (Mon, 03 Feb 2025) EndedAt: 2025-02-03 17:24:46 -0500 (Mon, 03 Feb 2025) EllapsedTime: 122.0 seconds RetCode: 0 Status: OK PackageFile: aggregateBioVar_1.17.0.tar.gz PackageFileSize: 990.1 KiB