Package: aggregateBioVar Version: 1.17.0 Command: E:\biocbuild\bbs-3.21-bioc\R\bin\R.exe CMD check --no-multiarch --install=check:aggregateBioVar.install-out.txt --library=E:\biocbuild\bbs-3.21-bioc\R\library --no-vignettes --timings aggregateBioVar_1.17.0.tar.gz StartedAt: 2025-02-09 22:30:57 -0500 (Sun, 09 Feb 2025) EndedAt: 2025-02-09 22:34:22 -0500 (Sun, 09 Feb 2025) EllapsedTime: 205.5 seconds RetCode: 0 Status: OK CheckDir: aggregateBioVar.Rcheck Warnings: 0