Package: agilp Version: 3.39.0 Command: rm -rf agilp.buildbin-libdir && mkdir agilp.buildbin-libdir && E:\biocbuild\bbs-3.21-bioc\R\bin\R.exe CMD INSTALL --build --library=agilp.buildbin-libdir agilp_3.39.0.tar.gz StartedAt: 2025-02-10 07:10:37 -0500 (Mon, 10 Feb 2025) EndedAt: 2025-02-10 07:10:53 -0500 (Mon, 10 Feb 2025) EllapsedTime: 15.5 seconds RetCode: 0 Status: OK PackageFile: agilp_3.39.0.zip PackageFileSize: 387.8 KiB