Package: agilp Version: 3.39.0 Command: chmod a+r agilp -R && E:\biocbuild\bbs-3.21-bioc\R\bin\R.exe CMD build --keep-empty-dirs --no-resave-data agilp StartedAt: 2025-02-09 17:10:15 -0500 (Sun, 09 Feb 2025) EndedAt: 2025-02-09 17:10:35 -0500 (Sun, 09 Feb 2025) EllapsedTime: 19.7 seconds RetCode: 0 Status: OK PackageFile: agilp_3.39.0.tar.gz PackageFileSize: 346.7 KiB