Package: airpart Version: 1.15.0 Command: /home/biocbuild/R/R/bin/R CMD INSTALL airpart StartedAt: 2025-01-29 20:28:31 -0000 (Wed, 29 Jan 2025) EndedAt: 2025-01-29 20:29:13 -0000 (Wed, 29 Jan 2025) EllapsedTime: 42.5 seconds RetCode: 0 Status: OK