Package: airpart Version: 1.15.0 Command: rm -rf airpart.buildbin-libdir && mkdir airpart.buildbin-libdir && /Users/biocbuild/BBS/utils/build-universal.sh airpart_1.15.0.tar.gz /Library/Frameworks/R.framework/Resources/bin/R airpart.buildbin-libdir StartedAt: 2025-02-10 00:41:15 -0500 (Mon, 10 Feb 2025) EndedAt: 2025-02-10 00:42:02 -0500 (Mon, 10 Feb 2025) EllapsedTime: 47.5 seconds RetCode: 0 Status: OK PackageFile: airpart_1.15.0.tgz PackageFileSize: 1.578 MiB