Package: airpart Version: 1.15.0 Command: /Library/Frameworks/R.framework/Resources/bin/R CMD build --keep-empty-dirs --no-resave-data airpart StartedAt: 2025-02-09 15:52:18 -0500 (Sun, 09 Feb 2025) EndedAt: 2025-02-09 15:53:44 -0500 (Sun, 09 Feb 2025) EllapsedTime: 85.7 seconds RetCode: 0 Status: OK PackageFile: airpart_1.15.0.tar.gz PackageFileSize: 1.487 MiB