Package: airpart Version: 1.15.0 Command: /home/biocbuild/bbs-3.21-bioc/R/bin/R CMD build --keep-empty-dirs --no-resave-data airpart StartedAt: 2025-02-09 16:07:11 -0500 (Sun, 09 Feb 2025) EndedAt: 2025-02-09 16:08:24 -0500 (Sun, 09 Feb 2025) EllapsedTime: 72.1 seconds RetCode: 0 Status: OK PackageFile: airpart_1.15.0.tar.gz PackageFileSize: 1.307 MiB