Package: airpart Version: 1.15.0 Command: /home/biocbuild/bbs-3.21-bioc/R/bin/R CMD INSTALL airpart StartedAt: 2025-02-09 15:54:11 -0500 (Sun, 09 Feb 2025) EndedAt: 2025-02-09 15:54:42 -0500 (Sun, 09 Feb 2025) EllapsedTime: 31.0 seconds RetCode: 0 Status: OK