Package: airpart Version: 1.15.0 Command: rm -rf airpart.buildbin-libdir && mkdir airpart.buildbin-libdir && E:\biocbuild\bbs-3.21-bioc\R\bin\R.exe CMD INSTALL --build --library=airpart.buildbin-libdir airpart_1.15.0.tar.gz StartedAt: 2025-02-10 07:10:43 -0500 (Mon, 10 Feb 2025) EndedAt: 2025-02-10 07:11:44 -0500 (Mon, 10 Feb 2025) EllapsedTime: 61.6 seconds RetCode: 0 Status: OK PackageFile: airpart_1.15.0.zip PackageFileSize: 804.4 KiB