Package: airpart Version: 1.15.0 Command: chmod a+r airpart -R && E:\biocbuild\bbs-3.21-bioc\R\bin\R.exe CMD build --keep-empty-dirs --no-resave-data airpart StartedAt: 2025-02-12 17:11:38 -0500 (Wed, 12 Feb 2025) EndedAt: 2025-02-12 17:13:27 -0500 (Wed, 12 Feb 2025) EllapsedTime: 108.6 seconds RetCode: 0 Status: OK PackageFile: airpart_1.15.0.tar.gz PackageFileSize: 710 KiB