Package: airpart Version: 1.15.0 Command: E:\biocbuild\bbs-3.21-bioc\R\bin\R.exe CMD INSTALL airpart StartedAt: 2025-02-09 16:30:40 -0500 (Sun, 09 Feb 2025) EndedAt: 2025-02-09 16:31:25 -0500 (Sun, 09 Feb 2025) EllapsedTime: 45.1 seconds RetCode: 0 Status: OK