Package: alabaster.base Version: 1.7.6 Maintainer: Aaron Lun MaintainerEmail: infinite.monkeys.with.keyboards at gmail.com git_url: https://git.bioconductor.org/packages/alabaster.base git_branch: devel git_last_commit: 0535541 git_last_commit_date: 2025-02-02 21:43:54 -0500 (Sun, 02 Feb 2025)