Package: alabaster.base Version: 1.7.6 Command: /Library/Frameworks/R.framework/Resources/bin/R CMD INSTALL alabaster.base StartedAt: 2025-02-09 15:03:33 -0500 (Sun, 09 Feb 2025) EndedAt: 2025-02-09 15:03:59 -0500 (Sun, 09 Feb 2025) EllapsedTime: 25.8 seconds RetCode: 0 Status: OK