Package: alabaster.base Version: 1.7.4 Command: /home/biocbuild/R/R/bin/R CMD build --keep-empty-dirs --no-resave-data alabaster.base StartedAt: 2025-01-29 20:47:01 -0000 (Wed, 29 Jan 2025) EndedAt: 2025-01-29 20:49:20 -0000 (Wed, 29 Jan 2025) EllapsedTime: 139.1 seconds RetCode: 0 Status: OK PackageFile: alabaster.base_1.7.4.tar.gz PackageFileSize: 343.4 KiB