Package: alabaster.base Version: 1.7.4 Command: /home/biocbuild/R/R/bin/R CMD check --install=check:alabaster.base.install-out.txt --library=/home/biocbuild/R/R/site-library --no-vignettes --timings alabaster.base_1.7.4.tar.gz StartedAt: 2025-01-28 03:28:43 -0000 (Tue, 28 Jan 2025) EndedAt: 2025-01-28 03:30:03 -0000 (Tue, 28 Jan 2025) EllapsedTime: 80.2 seconds RetCode: 1 Status: ERROR CheckDir: alabaster.base.Rcheck Warnings: NA