Package: alabaster.base Version: 1.7.4 Command: /home/biocbuild/R/R/bin/R CMD INSTALL alabaster.base StartedAt: 2025-01-29 19:37:41 -0000 (Wed, 29 Jan 2025) EndedAt: 2025-01-29 19:39:57 -0000 (Wed, 29 Jan 2025) EllapsedTime: 136.1 seconds RetCode: 0 Status: OK