Package: alabaster.base Version: 1.7.6 Command: /Library/Frameworks/R.framework/Resources/bin/R CMD INSTALL alabaster.base StartedAt: 2025-02-12 15:10:52 -0500 (Wed, 12 Feb 2025) EndedAt: 2025-02-12 15:12:33 -0500 (Wed, 12 Feb 2025) EllapsedTime: 101.3 seconds RetCode: 0 Status: OK