Package: alabaster.base Version: 1.7.6 Command: /home/biocbuild/bbs-3.21-bioc/R/bin/R CMD build --keep-empty-dirs --no-resave-data alabaster.base StartedAt: 2025-02-09 16:07:12 -0500 (Sun, 09 Feb 2025) EndedAt: 2025-02-09 16:08:44 -0500 (Sun, 09 Feb 2025) EllapsedTime: 91.1 seconds RetCode: 0 Status: OK PackageFile: alabaster.base_1.7.6.tar.gz PackageFileSize: 323.5 KiB