Package: alabaster.base Version: 1.7.6 Command: /home/biocbuild/bbs-3.21-bioc/R/bin/R CMD INSTALL alabaster.base StartedAt: 2025-02-09 15:13:55 -0500 (Sun, 09 Feb 2025) EndedAt: 2025-02-09 15:15:17 -0500 (Sun, 09 Feb 2025) EllapsedTime: 82.7 seconds RetCode: 0 Status: OK