Package: alabaster.base Version: 1.7.6 Command: rm -rf alabaster.base.buildbin-libdir && mkdir alabaster.base.buildbin-libdir && E:\biocbuild\bbs-3.21-bioc\R\bin\R.exe CMD INSTALL --build --library=alabaster.base.buildbin-libdir alabaster.base_1.7.6.tar.gz StartedAt: 2025-02-05 07:23:42 -0500 (Wed, 05 Feb 2025) EndedAt: 2025-02-05 07:26:46 -0500 (Wed, 05 Feb 2025) EllapsedTime: 184.1 seconds RetCode: 0 Status: OK PackageFile: alabaster.base_1.7.6.zip PackageFileSize: 2.428 MiB