Package: alabaster.base Version: 1.7.6 Command: E:\biocbuild\bbs-3.21-bioc\R\bin\R.exe CMD check --no-multiarch --install=check:alabaster.base.install-out.txt --library=E:\biocbuild\bbs-3.21-bioc\R\library --no-vignettes --timings alabaster.base_1.7.6.tar.gz StartedAt: 2025-02-04 22:58:02 -0500 (Tue, 04 Feb 2025) EndedAt: 2025-02-04 23:00:54 -0500 (Tue, 04 Feb 2025) EllapsedTime: 172.2 seconds RetCode: 0 Status: OK CheckDir: alabaster.base.Rcheck Warnings: 0