Package: alabaster.base Version: 1.7.6 Command: E:\biocbuild\bbs-3.21-bioc\R\bin\R.exe CMD INSTALL alabaster.base StartedAt: 2025-02-09 15:28:42 -0500 (Sun, 09 Feb 2025) EndedAt: 2025-02-09 15:31:32 -0500 (Sun, 09 Feb 2025) EllapsedTime: 169.7 seconds RetCode: 0 Status: OK