Package: alabaster.bumpy Version: 1.7.0 Command: /Library/Frameworks/R.framework/Resources/bin/R CMD INSTALL alabaster.bumpy StartedAt: 2025-02-09 15:04:00 -0500 (Sun, 09 Feb 2025) EndedAt: 2025-02-09 15:04:04 -0500 (Sun, 09 Feb 2025) EllapsedTime: 4.4 seconds RetCode: 0 Status: OK