Package: alabaster.bumpy Version: 1.7.0 Command: rm -rf alabaster.bumpy.buildbin-libdir && mkdir alabaster.bumpy.buildbin-libdir && /Users/biocbuild/BBS/utils/build-universal.sh alabaster.bumpy_1.7.0.tar.gz /Library/Frameworks/R.framework/Resources/bin/R alabaster.bumpy.buildbin-libdir StartedAt: 2025-02-10 00:41:17 -0500 (Mon, 10 Feb 2025) EndedAt: 2025-02-10 00:41:37 -0500 (Mon, 10 Feb 2025) EllapsedTime: 19.7 seconds RetCode: 0 Status: OK PackageFile: alabaster.bumpy_1.7.0.tgz PackageFileSize: 270.9 KiB