Package: alabaster.bumpy Version: 1.7.0 Command: /home/biocbuild/bbs-3.21-bioc/R/bin/R CMD check --install=check:alabaster.bumpy.install-out.txt --library=/home/biocbuild/bbs-3.21-bioc/R/site-library --timings alabaster.bumpy_1.7.0.tar.gz StartedAt: 2025-02-04 19:54:06 -0500 (Tue, 04 Feb 2025) EndedAt: 2025-02-04 19:55:37 -0500 (Tue, 04 Feb 2025) EllapsedTime: 91.2 seconds RetCode: 0 Status: OK CheckDir: alabaster.bumpy.Rcheck Warnings: 0