Package: alabaster.bumpy Version: 1.7.0 Command: /home/biocbuild/bbs-3.21-bioc/R/bin/R CMD INSTALL alabaster.bumpy StartedAt: 2025-02-09 15:23:58 -0500 (Sun, 09 Feb 2025) EndedAt: 2025-02-09 15:24:11 -0500 (Sun, 09 Feb 2025) EllapsedTime: 12.0 seconds RetCode: 0 Status: OK