Package: alabaster.bumpy Version: 1.7.0 Command: rm -rf alabaster.bumpy.buildbin-libdir && mkdir alabaster.bumpy.buildbin-libdir && E:\biocbuild\bbs-3.21-bioc\R\bin\R.exe CMD INSTALL --build --library=alabaster.bumpy.buildbin-libdir alabaster.bumpy_1.7.0.tar.gz StartedAt: 2025-02-05 07:23:43 -0500 (Wed, 05 Feb 2025) EndedAt: 2025-02-05 07:24:07 -0500 (Wed, 05 Feb 2025) EllapsedTime: 23.7 seconds RetCode: 0 Status: OK PackageFile: alabaster.bumpy_1.7.0.zip PackageFileSize: 274.9 KiB