Package: alabaster.bumpy Version: 1.7.0 Command: E:\biocbuild\bbs-3.21-bioc\R\bin\R.exe CMD INSTALL alabaster.bumpy StartedAt: 2025-02-09 15:32:39 -0500 (Sun, 09 Feb 2025) EndedAt: 2025-02-09 15:33:15 -0500 (Sun, 09 Feb 2025) EllapsedTime: 35.8 seconds RetCode: 0 Status: OK