Package: alabaster.mae Version: 1.7.0 Command: /Library/Frameworks/R.framework/Resources/bin/R CMD build --keep-empty-dirs --no-resave-data alabaster.mae StartedAt: 2025-02-12 15:51:10 -0500 (Wed, 12 Feb 2025) EndedAt: 2025-02-12 15:51:54 -0500 (Wed, 12 Feb 2025) EllapsedTime: 44.6 seconds RetCode: 0 Status: OK PackageFile: alabaster.mae_1.7.0.tar.gz PackageFileSize: 222.5 KiB