Package: alabaster.mae Version: 1.7.0 Command: /Library/Frameworks/R.framework/Resources/bin/R CMD INSTALL alabaster.mae StartedAt: 2025-02-09 15:39:57 -0500 (Sun, 09 Feb 2025) EndedAt: 2025-02-09 15:40:34 -0500 (Sun, 09 Feb 2025) EllapsedTime: 37.0 seconds RetCode: 0 Status: OK