Package: alabaster.mae Version: 1.7.0 Command: /home/biocbuild/bbs-3.21-bioc/R/bin/R CMD INSTALL alabaster.mae StartedAt: 2025-02-12 15:36:58 -0500 (Wed, 12 Feb 2025) EndedAt: 2025-02-12 15:37:26 -0500 (Wed, 12 Feb 2025) EllapsedTime: 27.5 seconds RetCode: 0 Status: OK