Package: alabaster.mae Version: 1.7.0 Command: rm -rf alabaster.mae.buildbin-libdir && mkdir alabaster.mae.buildbin-libdir && E:\biocbuild\bbs-3.21-bioc\R\bin\R.exe CMD INSTALL --build --library=alabaster.mae.buildbin-libdir alabaster.mae_1.7.0.tar.gz StartedAt: 2025-02-10 07:11:00 -0500 (Mon, 10 Feb 2025) EndedAt: 2025-02-10 07:11:34 -0500 (Mon, 10 Feb 2025) EllapsedTime: 33.6 seconds RetCode: 0 Status: OK PackageFile: alabaster.mae_1.7.0.zip PackageFileSize: 303.7 KiB