Package: alabaster.mae Version: 1.7.0 Command: E:\biocbuild\bbs-3.21-bioc\R\bin\R.exe CMD check --no-multiarch --install=check:alabaster.mae.install-out.txt --library=E:\biocbuild\bbs-3.21-bioc\R\library --no-vignettes --timings alabaster.mae_1.7.0.tar.gz StartedAt: 2025-02-12 22:40:14 -0500 (Wed, 12 Feb 2025) EndedAt: 2025-02-12 22:44:40 -0500 (Wed, 12 Feb 2025) EllapsedTime: 265.5 seconds RetCode: 0 Status: OK CheckDir: alabaster.mae.Rcheck Warnings: 0