Package: alabaster.mae Version: 1.7.0 Command: E:\biocbuild\bbs-3.21-bioc\R\bin\R.exe CMD INSTALL alabaster.mae StartedAt: 2025-02-09 16:56:57 -0500 (Sun, 09 Feb 2025) EndedAt: 2025-02-09 16:57:40 -0500 (Sun, 09 Feb 2025) EllapsedTime: 43.4 seconds RetCode: 0 Status: OK