Package: alabaster.matrix Version: 1.7.6 Command: /home/biocbuild/R/R/bin/R CMD check --install=check:alabaster.matrix.install-out.txt --library=/home/biocbuild/R/R/site-library --no-vignettes --timings alabaster.matrix_1.7.6.tar.gz StartedAt: 2025-01-28 03:28:49 -0000 (Tue, 28 Jan 2025) EndedAt: 2025-01-28 03:33:52 -0000 (Tue, 28 Jan 2025) EllapsedTime: 302.4 seconds RetCode: 1 Status: ERROR CheckDir: alabaster.matrix.Rcheck Warnings: NA