Package: alabaster.matrix Version: 1.7.6 Command: /Library/Frameworks/R.framework/Resources/bin/R CMD build --keep-empty-dirs --no-resave-data alabaster.matrix StartedAt: 2025-02-09 15:52:32 -0500 (Sun, 09 Feb 2025) EndedAt: 2025-02-09 15:53:14 -0500 (Sun, 09 Feb 2025) EllapsedTime: 42.2 seconds RetCode: 0 Status: OK PackageFile: alabaster.matrix_1.7.6.tar.gz PackageFileSize: 273.5 KiB